BEGIN:VCALENDAR
VERSION:2.0
PRODID:-//Bishop Spring Lavender Farm LLC - ECPv6.15.20//NONSGML v1.0//EN
CALSCALE:GREGORIAN
METHOD:PUBLISH
X-WR-CALNAME:Bishop Spring Lavender Farm LLC
X-ORIGINAL-URL:https://bishopspringlavender.com
X-WR-CALDESC:Events for Bishop Spring Lavender Farm LLC
REFRESH-INTERVAL;VALUE=DURATION:PT1H
X-Robots-Tag:noindex
X-PUBLISHED-TTL:PT1H
BEGIN:VTIMEZONE
TZID:America/Chicago
BEGIN:DAYLIGHT
TZOFFSETFROM:-0600
TZOFFSETTO:-0500
TZNAME:CDT
DTSTART:20230312T080000
END:DAYLIGHT
BEGIN:STANDARD
TZOFFSETFROM:-0500
TZOFFSETTO:-0600
TZNAME:CST
DTSTART:20231105T070000
END:STANDARD
BEGIN:DAYLIGHT
TZOFFSETFROM:-0600
TZOFFSETTO:-0500
TZNAME:CDT
DTSTART:20240310T080000
END:DAYLIGHT
BEGIN:STANDARD
TZOFFSETFROM:-0500
TZOFFSETTO:-0600
TZNAME:CST
DTSTART:20241103T070000
END:STANDARD
BEGIN:DAYLIGHT
TZOFFSETFROM:-0600
TZOFFSETTO:-0500
TZNAME:CDT
DTSTART:20250309T080000
END:DAYLIGHT
BEGIN:STANDARD
TZOFFSETFROM:-0500
TZOFFSETTO:-0600
TZNAME:CST
DTSTART:20251102T070000
END:STANDARD
END:VTIMEZONE
BEGIN:VEVENT
DTSTART;TZID=America/Chicago:20241130T090000
DTEND;TZID=America/Chicago:20241130T160000
DTSTAMP:20260424T062703
CREATED:20241016T015632Z
LAST-MODIFIED:20241016T020037Z
UID:10000070-1732957200-1732982400@bishopspringlavender.com
SUMMARY:Central Park Holiday Market
DESCRIPTION:Stop by and see us at the Holidays in Central Park Vendor Market!\nJacksonville’s downtown outdoor market brings together shopping at the brick and mortars with vendors!\n\nWe are excited to participate in the Holidays Central Park market on Saturday\, November 30th from 9am-4pm during SMALL BUSINESS SATURDAY  They’ve been planning for almost a year now to bring you a Magical Holiday Season market this year.\n\nAnd of course we will be there as your local lavender farming\, relaxation dealer by way of our carefully curated lavender products!
URL:https://bishopspringlavender.com/event/central-park-holiday-market/
LOCATION:Central Park Market Jacksonville\, IL\, E Central Park Plz\, Jacksonville\, IL\, 62650\, United States
END:VEVENT
END:VCALENDAR