BEGIN:VCALENDAR
VERSION:2.0
PRODID:-//Bishop Spring Lavender Farm LLC - ECPv6.15.20//NONSGML v1.0//EN
CALSCALE:GREGORIAN
METHOD:PUBLISH
X-WR-CALNAME:Bishop Spring Lavender Farm LLC
X-ORIGINAL-URL:https://bishopspringlavender.com
X-WR-CALDESC:Events for Bishop Spring Lavender Farm LLC
REFRESH-INTERVAL;VALUE=DURATION:PT1H
X-Robots-Tag:noindex
X-PUBLISHED-TTL:PT1H
BEGIN:VTIMEZONE
TZID:America/Chicago
BEGIN:DAYLIGHT
TZOFFSETFROM:-0600
TZOFFSETTO:-0500
TZNAME:CDT
DTSTART:20240310T080000
END:DAYLIGHT
BEGIN:STANDARD
TZOFFSETFROM:-0500
TZOFFSETTO:-0600
TZNAME:CST
DTSTART:20241103T070000
END:STANDARD
BEGIN:DAYLIGHT
TZOFFSETFROM:-0600
TZOFFSETTO:-0500
TZNAME:CDT
DTSTART:20250309T080000
END:DAYLIGHT
BEGIN:STANDARD
TZOFFSETFROM:-0500
TZOFFSETTO:-0600
TZNAME:CST
DTSTART:20251102T070000
END:STANDARD
BEGIN:DAYLIGHT
TZOFFSETFROM:-0600
TZOFFSETTO:-0500
TZNAME:CDT
DTSTART:20260308T080000
END:DAYLIGHT
BEGIN:STANDARD
TZOFFSETFROM:-0500
TZOFFSETTO:-0600
TZNAME:CST
DTSTART:20261101T070000
END:STANDARD
END:VTIMEZONE
BEGIN:VEVENT
DTSTART;TZID=America/Chicago:20250909T160000
DTEND;TZID=America/Chicago:20250909T190000
DTSTAMP:20260423T182032
CREATED:20250520T183743Z
LAST-MODIFIED:20250520T191339Z
UID:10000235-1757433600-1757444400@bishopspringlavender.com
SUMMARY:Jersey County Farmers & Artisan Market
DESCRIPTION:Bishop Spring Lavender at the Jersey County Farmers & Artisan Market! \nWe’re excited to announce that Bishop Spring Lavender will be at the Jersey County Farmers & Artisan Market every Tuesday from 4:00pm–7:00pm\, starting June 3rd and running through September 9th (EXCEPT July 8th for the Jersey County Fair Parade).\nCome visit us for our hand-harvested lavender products and enjoy a beautiful summer evening filled with local produce\, handmade goods\, and family fun! \nMark your calendars and come see us at the market! We can’t wait to meet you and share our lavender magic with you this summer.
URL:https://bishopspringlavender.com/event/jersey-county-farmers-artisan-market/2025-09-09/
LOCATION:Jersey County Farmers & Artisan Market\, 403 N State St\, Jerseyville\, IL\, 62052\, United States
END:VEVENT
BEGIN:VEVENT
DTSTART;TZID=America/Chicago:20250902T160000
DTEND;TZID=America/Chicago:20250902T190000
DTSTAMP:20260423T182032
CREATED:20250520T183743Z
LAST-MODIFIED:20250520T191339Z
UID:10000234-1756828800-1756839600@bishopspringlavender.com
SUMMARY:Jersey County Farmers & Artisan Market
DESCRIPTION:Bishop Spring Lavender at the Jersey County Farmers & Artisan Market! \nWe’re excited to announce that Bishop Spring Lavender will be at the Jersey County Farmers & Artisan Market every Tuesday from 4:00pm–7:00pm\, starting June 3rd and running through September 9th (EXCEPT July 8th for the Jersey County Fair Parade).\nCome visit us for our hand-harvested lavender products and enjoy a beautiful summer evening filled with local produce\, handmade goods\, and family fun! \nMark your calendars and come see us at the market! We can’t wait to meet you and share our lavender magic with you this summer.
URL:https://bishopspringlavender.com/event/jersey-county-farmers-artisan-market/2025-09-02/
LOCATION:Jersey County Farmers & Artisan Market\, 403 N State St\, Jerseyville\, IL\, 62052\, United States
END:VEVENT
BEGIN:VEVENT
DTSTART;TZID=America/Chicago:20250826T160000
DTEND;TZID=America/Chicago:20250826T190000
DTSTAMP:20260423T182032
CREATED:20250520T183743Z
LAST-MODIFIED:20250520T191339Z
UID:10000233-1756224000-1756234800@bishopspringlavender.com
SUMMARY:Jersey County Farmers & Artisan Market
DESCRIPTION:Bishop Spring Lavender at the Jersey County Farmers & Artisan Market! \nWe’re excited to announce that Bishop Spring Lavender will be at the Jersey County Farmers & Artisan Market every Tuesday from 4:00pm–7:00pm\, starting June 3rd and running through September 9th (EXCEPT July 8th for the Jersey County Fair Parade).\nCome visit us for our hand-harvested lavender products and enjoy a beautiful summer evening filled with local produce\, handmade goods\, and family fun! \nMark your calendars and come see us at the market! We can’t wait to meet you and share our lavender magic with you this summer.
URL:https://bishopspringlavender.com/event/jersey-county-farmers-artisan-market/2025-08-26/
LOCATION:Jersey County Farmers & Artisan Market\, 403 N State St\, Jerseyville\, IL\, 62052\, United States
END:VEVENT
BEGIN:VEVENT
DTSTART;TZID=America/Chicago:20250819T160000
DTEND;TZID=America/Chicago:20250819T190000
DTSTAMP:20260423T182032
CREATED:20250520T183743Z
LAST-MODIFIED:20250520T191339Z
UID:10000232-1755619200-1755630000@bishopspringlavender.com
SUMMARY:Jersey County Farmers & Artisan Market
DESCRIPTION:Bishop Spring Lavender at the Jersey County Farmers & Artisan Market! \nWe’re excited to announce that Bishop Spring Lavender will be at the Jersey County Farmers & Artisan Market every Tuesday from 4:00pm–7:00pm\, starting June 3rd and running through September 9th (EXCEPT July 8th for the Jersey County Fair Parade).\nCome visit us for our hand-harvested lavender products and enjoy a beautiful summer evening filled with local produce\, handmade goods\, and family fun! \nMark your calendars and come see us at the market! We can’t wait to meet you and share our lavender magic with you this summer.
URL:https://bishopspringlavender.com/event/jersey-county-farmers-artisan-market/2025-08-19/
LOCATION:Jersey County Farmers & Artisan Market\, 403 N State St\, Jerseyville\, IL\, 62052\, United States
END:VEVENT
BEGIN:VEVENT
DTSTART;TZID=America/Chicago:20250812T160000
DTEND;TZID=America/Chicago:20250812T190000
DTSTAMP:20260423T182032
CREATED:20250520T183743Z
LAST-MODIFIED:20250520T191339Z
UID:10000231-1755014400-1755025200@bishopspringlavender.com
SUMMARY:Jersey County Farmers & Artisan Market
DESCRIPTION:Bishop Spring Lavender at the Jersey County Farmers & Artisan Market! \nWe’re excited to announce that Bishop Spring Lavender will be at the Jersey County Farmers & Artisan Market every Tuesday from 4:00pm–7:00pm\, starting June 3rd and running through September 9th (EXCEPT July 8th for the Jersey County Fair Parade).\nCome visit us for our hand-harvested lavender products and enjoy a beautiful summer evening filled with local produce\, handmade goods\, and family fun! \nMark your calendars and come see us at the market! We can’t wait to meet you and share our lavender magic with you this summer.
URL:https://bishopspringlavender.com/event/jersey-county-farmers-artisan-market/2025-08-12/
LOCATION:Jersey County Farmers & Artisan Market\, 403 N State St\, Jerseyville\, IL\, 62052\, United States
END:VEVENT
BEGIN:VEVENT
DTSTART;TZID=America/Chicago:20250805T160000
DTEND;TZID=America/Chicago:20250805T190000
DTSTAMP:20260423T182032
CREATED:20250520T183743Z
LAST-MODIFIED:20250520T191339Z
UID:10000230-1754409600-1754420400@bishopspringlavender.com
SUMMARY:Jersey County Farmers & Artisan Market
DESCRIPTION:Bishop Spring Lavender at the Jersey County Farmers & Artisan Market! \nWe’re excited to announce that Bishop Spring Lavender will be at the Jersey County Farmers & Artisan Market every Tuesday from 4:00pm–7:00pm\, starting June 3rd and running through September 9th (EXCEPT July 8th for the Jersey County Fair Parade).\nCome visit us for our hand-harvested lavender products and enjoy a beautiful summer evening filled with local produce\, handmade goods\, and family fun! \nMark your calendars and come see us at the market! We can’t wait to meet you and share our lavender magic with you this summer.
URL:https://bishopspringlavender.com/event/jersey-county-farmers-artisan-market/2025-08-05/
LOCATION:Jersey County Farmers & Artisan Market\, 403 N State St\, Jerseyville\, IL\, 62052\, United States
END:VEVENT
BEGIN:VEVENT
DTSTART;TZID=America/Chicago:20250729T160000
DTEND;TZID=America/Chicago:20250729T190000
DTSTAMP:20260423T182032
CREATED:20250520T183743Z
LAST-MODIFIED:20250520T191339Z
UID:10000229-1753804800-1753815600@bishopspringlavender.com
SUMMARY:Jersey County Farmers & Artisan Market
DESCRIPTION:Bishop Spring Lavender at the Jersey County Farmers & Artisan Market! \nWe’re excited to announce that Bishop Spring Lavender will be at the Jersey County Farmers & Artisan Market every Tuesday from 4:00pm–7:00pm\, starting June 3rd and running through September 9th (EXCEPT July 8th for the Jersey County Fair Parade).\nCome visit us for our hand-harvested lavender products and enjoy a beautiful summer evening filled with local produce\, handmade goods\, and family fun! \nMark your calendars and come see us at the market! We can’t wait to meet you and share our lavender magic with you this summer.
URL:https://bishopspringlavender.com/event/jersey-county-farmers-artisan-market/2025-07-29/
LOCATION:Jersey County Farmers & Artisan Market\, 403 N State St\, Jerseyville\, IL\, 62052\, United States
END:VEVENT
BEGIN:VEVENT
DTSTART;TZID=America/Chicago:20250722T160000
DTEND;TZID=America/Chicago:20250722T190000
DTSTAMP:20260423T182032
CREATED:20250520T183743Z
LAST-MODIFIED:20250520T191339Z
UID:10000228-1753200000-1753210800@bishopspringlavender.com
SUMMARY:Jersey County Farmers & Artisan Market
DESCRIPTION:Bishop Spring Lavender at the Jersey County Farmers & Artisan Market! \nWe’re excited to announce that Bishop Spring Lavender will be at the Jersey County Farmers & Artisan Market every Tuesday from 4:00pm–7:00pm\, starting June 3rd and running through September 9th (EXCEPT July 8th for the Jersey County Fair Parade).\nCome visit us for our hand-harvested lavender products and enjoy a beautiful summer evening filled with local produce\, handmade goods\, and family fun! \nMark your calendars and come see us at the market! We can’t wait to meet you and share our lavender magic with you this summer.
URL:https://bishopspringlavender.com/event/jersey-county-farmers-artisan-market/2025-07-22/
LOCATION:Jersey County Farmers & Artisan Market\, 403 N State St\, Jerseyville\, IL\, 62052\, United States
END:VEVENT
BEGIN:VEVENT
DTSTART;TZID=America/Chicago:20250715T160000
DTEND;TZID=America/Chicago:20250715T190000
DTSTAMP:20260423T182032
CREATED:20250520T183743Z
LAST-MODIFIED:20250520T191339Z
UID:10000227-1752595200-1752606000@bishopspringlavender.com
SUMMARY:Jersey County Farmers & Artisan Market
DESCRIPTION:Bishop Spring Lavender at the Jersey County Farmers & Artisan Market! \nWe’re excited to announce that Bishop Spring Lavender will be at the Jersey County Farmers & Artisan Market every Tuesday from 4:00pm–7:00pm\, starting June 3rd and running through September 9th (EXCEPT July 8th for the Jersey County Fair Parade).\nCome visit us for our hand-harvested lavender products and enjoy a beautiful summer evening filled with local produce\, handmade goods\, and family fun! \nMark your calendars and come see us at the market! We can’t wait to meet you and share our lavender magic with you this summer.
URL:https://bishopspringlavender.com/event/jersey-county-farmers-artisan-market/2025-07-15/
LOCATION:Jersey County Farmers & Artisan Market\, 403 N State St\, Jerseyville\, IL\, 62052\, United States
END:VEVENT
BEGIN:VEVENT
DTSTART;TZID=America/Chicago:20250701T160000
DTEND;TZID=America/Chicago:20250701T190000
DTSTAMP:20260423T182032
CREATED:20250520T183743Z
LAST-MODIFIED:20250520T191339Z
UID:10000226-1751385600-1751396400@bishopspringlavender.com
SUMMARY:Jersey County Farmers & Artisan Market
DESCRIPTION:Bishop Spring Lavender at the Jersey County Farmers & Artisan Market! \nWe’re excited to announce that Bishop Spring Lavender will be at the Jersey County Farmers & Artisan Market every Tuesday from 4:00pm–7:00pm\, starting June 3rd and running through September 9th (EXCEPT July 8th for the Jersey County Fair Parade).\nCome visit us for our hand-harvested lavender products and enjoy a beautiful summer evening filled with local produce\, handmade goods\, and family fun! \nMark your calendars and come see us at the market! We can’t wait to meet you and share our lavender magic with you this summer.
URL:https://bishopspringlavender.com/event/jersey-county-farmers-artisan-market/2025-07-01/
LOCATION:Jersey County Farmers & Artisan Market\, 403 N State St\, Jerseyville\, IL\, 62052\, United States
END:VEVENT
BEGIN:VEVENT
DTSTART;TZID=America/Chicago:20250624T160000
DTEND;TZID=America/Chicago:20250624T190000
DTSTAMP:20260423T182032
CREATED:20250520T183743Z
LAST-MODIFIED:20250520T191339Z
UID:10000225-1750780800-1750791600@bishopspringlavender.com
SUMMARY:Jersey County Farmers & Artisan Market
DESCRIPTION:Bishop Spring Lavender at the Jersey County Farmers & Artisan Market! \nWe’re excited to announce that Bishop Spring Lavender will be at the Jersey County Farmers & Artisan Market every Tuesday from 4:00pm–7:00pm\, starting June 3rd and running through September 9th (EXCEPT July 8th for the Jersey County Fair Parade).\nCome visit us for our hand-harvested lavender products and enjoy a beautiful summer evening filled with local produce\, handmade goods\, and family fun! \nMark your calendars and come see us at the market! We can’t wait to meet you and share our lavender magic with you this summer.
URL:https://bishopspringlavender.com/event/jersey-county-farmers-artisan-market/2025-06-24/
LOCATION:Jersey County Farmers & Artisan Market\, 403 N State St\, Jerseyville\, IL\, 62052\, United States
END:VEVENT
BEGIN:VEVENT
DTSTART;TZID=America/Chicago:20250617T160000
DTEND;TZID=America/Chicago:20250617T190000
DTSTAMP:20260423T182032
CREATED:20250520T183743Z
LAST-MODIFIED:20250520T191339Z
UID:10000224-1750176000-1750186800@bishopspringlavender.com
SUMMARY:Jersey County Farmers & Artisan Market
DESCRIPTION:Bishop Spring Lavender at the Jersey County Farmers & Artisan Market! \nWe’re excited to announce that Bishop Spring Lavender will be at the Jersey County Farmers & Artisan Market every Tuesday from 4:00pm–7:00pm\, starting June 3rd and running through September 9th (EXCEPT July 8th for the Jersey County Fair Parade).\nCome visit us for our hand-harvested lavender products and enjoy a beautiful summer evening filled with local produce\, handmade goods\, and family fun! \nMark your calendars and come see us at the market! We can’t wait to meet you and share our lavender magic with you this summer.
URL:https://bishopspringlavender.com/event/jersey-county-farmers-artisan-market/2025-06-17/
LOCATION:Jersey County Farmers & Artisan Market\, 403 N State St\, Jerseyville\, IL\, 62052\, United States
END:VEVENT
BEGIN:VEVENT
DTSTART;TZID=America/Chicago:20250610T160000
DTEND;TZID=America/Chicago:20250610T190000
DTSTAMP:20260423T182032
CREATED:20250520T183743Z
LAST-MODIFIED:20250520T191339Z
UID:10000223-1749571200-1749582000@bishopspringlavender.com
SUMMARY:Jersey County Farmers & Artisan Market
DESCRIPTION:Bishop Spring Lavender at the Jersey County Farmers & Artisan Market! \nWe’re excited to announce that Bishop Spring Lavender will be at the Jersey County Farmers & Artisan Market every Tuesday from 4:00pm–7:00pm\, starting June 3rd and running through September 9th (EXCEPT July 8th for the Jersey County Fair Parade).\nCome visit us for our hand-harvested lavender products and enjoy a beautiful summer evening filled with local produce\, handmade goods\, and family fun! \nMark your calendars and come see us at the market! We can’t wait to meet you and share our lavender magic with you this summer.
URL:https://bishopspringlavender.com/event/jersey-county-farmers-artisan-market/2025-06-10/
LOCATION:Jersey County Farmers & Artisan Market\, 403 N State St\, Jerseyville\, IL\, 62052\, United States
END:VEVENT
BEGIN:VEVENT
DTSTART;TZID=America/Chicago:20250603T160000
DTEND;TZID=America/Chicago:20250603T190000
DTSTAMP:20260423T182032
CREATED:20250520T183743Z
LAST-MODIFIED:20250520T191339Z
UID:10000222-1748966400-1748977200@bishopspringlavender.com
SUMMARY:Jersey County Farmers & Artisan Market
DESCRIPTION:Bishop Spring Lavender at the Jersey County Farmers & Artisan Market! \nWe’re excited to announce that Bishop Spring Lavender will be at the Jersey County Farmers & Artisan Market every Tuesday from 4:00pm–7:00pm\, starting June 3rd and running through September 9th (EXCEPT July 8th for the Jersey County Fair Parade).\nCome visit us for our hand-harvested lavender products and enjoy a beautiful summer evening filled with local produce\, handmade goods\, and family fun! \nMark your calendars and come see us at the market! We can’t wait to meet you and share our lavender magic with you this summer.
URL:https://bishopspringlavender.com/event/jersey-county-farmers-artisan-market/2025-06-03/
LOCATION:Jersey County Farmers & Artisan Market\, 403 N State St\, Jerseyville\, IL\, 62052\, United States
END:VEVENT
END:VCALENDAR