BEGIN:VCALENDAR
VERSION:2.0
PRODID:-//Bishop Spring Lavender Farm LLC - ECPv6.15.20//NONSGML v1.0//EN
CALSCALE:GREGORIAN
METHOD:PUBLISH
X-ORIGINAL-URL:https://bishopspringlavender.com
X-WR-CALDESC:Events for Bishop Spring Lavender Farm LLC
REFRESH-INTERVAL;VALUE=DURATION:PT1H
X-Robots-Tag:noindex
X-PUBLISHED-TTL:PT1H
BEGIN:VTIMEZONE
TZID:America/Chicago
BEGIN:DAYLIGHT
TZOFFSETFROM:-0600
TZOFFSETTO:-0500
TZNAME:CDT
DTSTART:20240310T080000
END:DAYLIGHT
BEGIN:STANDARD
TZOFFSETFROM:-0500
TZOFFSETTO:-0600
TZNAME:CST
DTSTART:20241103T070000
END:STANDARD
BEGIN:DAYLIGHT
TZOFFSETFROM:-0600
TZOFFSETTO:-0500
TZNAME:CDT
DTSTART:20250309T080000
END:DAYLIGHT
BEGIN:STANDARD
TZOFFSETFROM:-0500
TZOFFSETTO:-0600
TZNAME:CST
DTSTART:20251102T070000
END:STANDARD
BEGIN:DAYLIGHT
TZOFFSETFROM:-0600
TZOFFSETTO:-0500
TZNAME:CDT
DTSTART:20260308T080000
END:DAYLIGHT
BEGIN:STANDARD
TZOFFSETFROM:-0500
TZOFFSETTO:-0600
TZNAME:CST
DTSTART:20261101T070000
END:STANDARD
END:VTIMEZONE
BEGIN:VEVENT
DTSTART;TZID=America/Chicago:20251205T160000
DTEND;TZID=America/Chicago:20251205T210000
DTSTAMP:20260424T222420
CREATED:20260408T235743Z
LAST-MODIFIED:20260408T235743Z
UID:10000571-1764950400-1764968400@bishopspringlavender.com
SUMMARY:Illinois Product Holiday Market
DESCRIPTION:We’re thrilled to be part of the Illinois Product Holiday Market in downtown Springfield! \nHosted by the Illinois Department of Agriculture\, this festive Christkindl-inspired market fills the Y-Block (just north of the Governor’s Mansion) with Illinois makers\, bakers\, wineries\, and local artisans—perfect for holiday shopping\, stocking stuffers\, and handmade gifts with heart.\n\n Dates: December 5–7\, 2025\n\n Hours:\n• Friday 4 PM – 9 PM• Saturday 11 AM – 6 PM• Sunday 11 AM – 4 PM\n\n Location: Y Block\, 500 S 4th St\, Springfield\, IL\n\nWe’re a family-run lavender farm rooted in faith and simplicity\, handcrafting small-batch lavender products from our fields in Illinois.\nVisit our booth to explore pure lavender essential oil\, dried bouquets\, soothing mists\, bath soaks\, and our bestselling soaps and serums — all made with care\, clean ingredients\, and a little love from the farm.\n\nCome stroll beneath the twinkle lights\, sip something festive from the Illinois Wine Tent\, and find gifts that smell like peace and feel like home. \n\nFollow us at Bishop Spring Lavender Farm LLC for farm updates\, product launches\, and more market dates!
URL:https://bishopspringlavender.com/event/illinois-product-holiday-market/2025-12-05/
LOCATION:Illinois Governor’s Mansion Y Block\, 500 S 4th St\, Springfield\, IL\, United States
END:VEVENT
BEGIN:VEVENT
DTSTART;TZID=America/Chicago:20251206T110000
DTEND;TZID=America/Chicago:20251206T180000
DTSTAMP:20260424T222420
CREATED:20260408T235743Z
LAST-MODIFIED:20260408T235743Z
UID:10000572-1765018800-1765044000@bishopspringlavender.com
SUMMARY:Illinois Product Holiday Market
DESCRIPTION:We’re thrilled to be part of the Illinois Product Holiday Market in downtown Springfield! \nHosted by the Illinois Department of Agriculture\, this festive Christkindl-inspired market fills the Y-Block (just north of the Governor’s Mansion) with Illinois makers\, bakers\, wineries\, and local artisans—perfect for holiday shopping\, stocking stuffers\, and handmade gifts with heart.\n\n Dates: December 5–7\, 2025\n\n Hours:\n• Friday 4 PM – 9 PM• Saturday 11 AM – 6 PM• Sunday 11 AM – 4 PM\n\n Location: Y Block\, 500 S 4th St\, Springfield\, IL\n\nWe’re a family-run lavender farm rooted in faith and simplicity\, handcrafting small-batch lavender products from our fields in Illinois.\nVisit our booth to explore pure lavender essential oil\, dried bouquets\, soothing mists\, bath soaks\, and our bestselling soaps and serums — all made with care\, clean ingredients\, and a little love from the farm.\n\nCome stroll beneath the twinkle lights\, sip something festive from the Illinois Wine Tent\, and find gifts that smell like peace and feel like home. \n\nFollow us at Bishop Spring Lavender Farm LLC for farm updates\, product launches\, and more market dates!
URL:https://bishopspringlavender.com/event/illinois-product-holiday-market/2025-12-06/
LOCATION:Illinois Governor’s Mansion Y Block\, 500 S 4th St\, Springfield\, IL\, United States
END:VEVENT
BEGIN:VEVENT
DTSTART;TZID=America/Chicago:20251207T110000
DTEND;TZID=America/Chicago:20251207T160000
DTSTAMP:20260424T222420
CREATED:20260408T235743Z
LAST-MODIFIED:20260408T235743Z
UID:10000573-1765105200-1765123200@bishopspringlavender.com
SUMMARY:Illinois Product Holiday Market
DESCRIPTION:We’re thrilled to be part of the Illinois Product Holiday Market in downtown Springfield! \nHosted by the Illinois Department of Agriculture\, this festive Christkindl-inspired market fills the Y-Block (just north of the Governor’s Mansion) with Illinois makers\, bakers\, wineries\, and local artisans—perfect for holiday shopping\, stocking stuffers\, and handmade gifts with heart.\n\n Dates: December 5–7\, 2025\n\n Hours:\n• Friday 4 PM – 9 PM• Saturday 11 AM – 6 PM• Sunday 11 AM – 4 PM\n\n Location: Y Block\, 500 S 4th St\, Springfield\, IL\n\nWe’re a family-run lavender farm rooted in faith and simplicity\, handcrafting small-batch lavender products from our fields in Illinois.\nVisit our booth to explore pure lavender essential oil\, dried bouquets\, soothing mists\, bath soaks\, and our bestselling soaps and serums — all made with care\, clean ingredients\, and a little love from the farm.\n\nCome stroll beneath the twinkle lights\, sip something festive from the Illinois Wine Tent\, and find gifts that smell like peace and feel like home. \n\nFollow us at Bishop Spring Lavender Farm LLC for farm updates\, product launches\, and more market dates!
URL:https://bishopspringlavender.com/event/illinois-product-holiday-market/2025-12-07/
LOCATION:Illinois Governor’s Mansion Y Block\, 500 S 4th St\, Springfield\, IL\, United States
END:VEVENT
BEGIN:VEVENT
DTSTART;TZID=America/Chicago:20251212T160000
DTEND;TZID=America/Chicago:20251212T190000
DTSTAMP:20260424T222420
CREATED:20260408T234327Z
LAST-MODIFIED:20260408T234742Z
UID:10000563-1765555200-1765566000@bishopspringlavender.com
SUMMARY:Beardstown Christkindlmarkt
DESCRIPTION:We’ll be part of the Beardstown Christkindlmarkt this holiday season — a festive market filled with twinkling lights\, cozy cedar chalets\, holiday music\, and plenty of local shopping magic. \n\n Fridays: 4 PM – 7 PM\n Saturdays: 11 AM – 7 PM\n\n Location: Art Zeeck Park\, Beardstown\, IL\n\nWe’re a family-run lavender farm rooted in faith and simplicity\, handcrafting small-batch lavender products from our fields in Illinois.\nVisit our booth to explore pure lavender essential oil\, dried bouquets\, soothing mists\, bath soaks\, and our bestselling soaps and serums — all made with care\, clean ingredients\, and a little love from the farm.\n\nEnjoy a stroll with a mug of cocoa (or Glühwein!) and come enjoy the sights\, sounds\, and scents of the season with us. \n\nFollow us at Bishop Spring Lavender Farm LLC for farm updates\, product launches\, and more market dates!
URL:https://bishopspringlavender.com/event/beardstown-christkindlmarkt/2025-12-12/
LOCATION:Beardstown Christkindlmarkt\, Art Zeeck Park\, Beardstown\, IL\, 62618\, United States
END:VEVENT
BEGIN:VEVENT
DTSTART;TZID=America/Chicago:20251213T160000
DTEND;TZID=America/Chicago:20251213T190000
DTSTAMP:20260424T222420
CREATED:20260408T235109Z
LAST-MODIFIED:20260408T235109Z
UID:10000569-1765641600-1765652400@bishopspringlavender.com
SUMMARY:Beardstown Christkindlmarkt
DESCRIPTION:We’ll be part of the Beardstown Christkindlmarkt this holiday season — a festive market filled with twinkling lights\, cozy cedar chalets\, holiday music\, and plenty of local shopping magic. \n\n Fridays: 4 PM – 7 PM\n Saturdays: 11 AM – 7 PM\n\n Location: Art Zeeck Park\, Beardstown\, IL\n\nWe’re a family-run lavender farm rooted in faith and simplicity\, handcrafting small-batch lavender products from our fields in Illinois.\nVisit our booth to explore pure lavender essential oil\, dried bouquets\, soothing mists\, bath soaks\, and our bestselling soaps and serums — all made with care\, clean ingredients\, and a little love from the farm.\n\nEnjoy a stroll with a mug of cocoa (or Glühwein!) and come enjoy the sights\, sounds\, and scents of the season with us. \n\nFollow us at Bishop Spring Lavender Farm LLC for farm updates\, product launches\, and more market dates!
URL:https://bishopspringlavender.com/event/beardstown-christkindlmarkt-2/2025-12-13/
LOCATION:Beardstown Christkindlmarkt\, Art Zeeck Park\, Beardstown\, IL\, 62618\, United States
END:VEVENT
BEGIN:VEVENT
DTSTART;TZID=America/Chicago:20251220T080000
DTEND;TZID=America/Chicago:20251220T120000
DTSTAMP:20260424T222420
CREATED:20260408T221044Z
LAST-MODIFIED:20260408T230019Z
UID:10000555-1766217600-1766232000@bishopspringlavender.com
SUMMARY:Old Capitol Winter Farmers Market
DESCRIPTION:We’ll be joining the Old Capitol Winter Farmers Market inside the historic Union Station—right across from the Abraham Lincoln Presidential Library and Museum in downtown Springfield.\nThis indoor market is the perfect spot to shop local through the colder months\, featuring farmers\, makers\, and bakers from all around central Illinois.\n Market Hours: 8 AM – 12 PM Location: Union Station\, 500 E Madison St\, Springfield\, IL\nWe’re a family-run lavender farm rooted in faith and simplicity\, handcrafting small-batch lavender products from our fields in Illinois.\nVisit our booth to explore pure lavender essential oil\, dried bouquets\, soothing mists\, bath soaks\, and our bestselling soaps and serums — all made with care\, clean ingredients\, and a little love from the farm.\nCome by\, breathe deep\, and take a bit of lavender calm home with you. \nFollow us at Bishop Spring Lavender Farm LLC for farm updates\, product launches\, and more market dates!
URL:https://bishopspringlavender.com/event/old-capitol-winter-farmers-market/2025-12-20/
LOCATION:Old Capitol Winter Farmers Market\, 500 E Madison St\, Springfield\, United States
END:VEVENT
BEGIN:VEVENT
DTSTART;TZID=America/Chicago:20251226T160000
DTEND;TZID=America/Chicago:20251226T190000
DTSTAMP:20260424T222420
CREATED:20260408T234327Z
LAST-MODIFIED:20260408T234742Z
UID:10000564-1766764800-1766775600@bishopspringlavender.com
SUMMARY:Beardstown Christkindlmarkt
DESCRIPTION:We’ll be part of the Beardstown Christkindlmarkt this holiday season — a festive market filled with twinkling lights\, cozy cedar chalets\, holiday music\, and plenty of local shopping magic. \n\n Fridays: 4 PM – 7 PM\n Saturdays: 11 AM – 7 PM\n\n Location: Art Zeeck Park\, Beardstown\, IL\n\nWe’re a family-run lavender farm rooted in faith and simplicity\, handcrafting small-batch lavender products from our fields in Illinois.\nVisit our booth to explore pure lavender essential oil\, dried bouquets\, soothing mists\, bath soaks\, and our bestselling soaps and serums — all made with care\, clean ingredients\, and a little love from the farm.\n\nEnjoy a stroll with a mug of cocoa (or Glühwein!) and come enjoy the sights\, sounds\, and scents of the season with us. \n\nFollow us at Bishop Spring Lavender Farm LLC for farm updates\, product launches\, and more market dates!
URL:https://bishopspringlavender.com/event/beardstown-christkindlmarkt/2025-12-26/
LOCATION:Beardstown Christkindlmarkt\, Art Zeeck Park\, Beardstown\, IL\, 62618\, United States
END:VEVENT
BEGIN:VEVENT
DTSTART;TZID=America/Chicago:20251227T160000
DTEND;TZID=America/Chicago:20251227T190000
DTSTAMP:20260424T222420
CREATED:20260408T235109Z
LAST-MODIFIED:20260408T235109Z
UID:10000570-1766851200-1766862000@bishopspringlavender.com
SUMMARY:Beardstown Christkindlmarkt
DESCRIPTION:We’ll be part of the Beardstown Christkindlmarkt this holiday season — a festive market filled with twinkling lights\, cozy cedar chalets\, holiday music\, and plenty of local shopping magic. \n\n Fridays: 4 PM – 7 PM\n Saturdays: 11 AM – 7 PM\n\n Location: Art Zeeck Park\, Beardstown\, IL\n\nWe’re a family-run lavender farm rooted in faith and simplicity\, handcrafting small-batch lavender products from our fields in Illinois.\nVisit our booth to explore pure lavender essential oil\, dried bouquets\, soothing mists\, bath soaks\, and our bestselling soaps and serums — all made with care\, clean ingredients\, and a little love from the farm.\n\nEnjoy a stroll with a mug of cocoa (or Glühwein!) and come enjoy the sights\, sounds\, and scents of the season with us. \n\nFollow us at Bishop Spring Lavender Farm LLC for farm updates\, product launches\, and more market dates!
URL:https://bishopspringlavender.com/event/beardstown-christkindlmarkt-2/2025-12-27/
LOCATION:Beardstown Christkindlmarkt\, Art Zeeck Park\, Beardstown\, IL\, 62618\, United States
END:VEVENT
END:VCALENDAR