BEGIN:VCALENDAR
VERSION:2.0
PRODID:-//Bishop Spring Lavender Farm LLC - ECPv6.15.20//NONSGML v1.0//EN
CALSCALE:GREGORIAN
METHOD:PUBLISH
X-WR-CALNAME:Bishop Spring Lavender Farm LLC
X-ORIGINAL-URL:https://bishopspringlavender.com
X-WR-CALDESC:Events for Bishop Spring Lavender Farm LLC
REFRESH-INTERVAL;VALUE=DURATION:PT1H
X-Robots-Tag:noindex
X-PUBLISHED-TTL:PT1H
BEGIN:VTIMEZONE
TZID:America/Chicago
BEGIN:DAYLIGHT
TZOFFSETFROM:-0600
TZOFFSETTO:-0500
TZNAME:CDT
DTSTART:20230312T080000
END:DAYLIGHT
BEGIN:STANDARD
TZOFFSETFROM:-0500
TZOFFSETTO:-0600
TZNAME:CST
DTSTART:20231105T070000
END:STANDARD
BEGIN:DAYLIGHT
TZOFFSETFROM:-0600
TZOFFSETTO:-0500
TZNAME:CDT
DTSTART:20240310T080000
END:DAYLIGHT
BEGIN:STANDARD
TZOFFSETFROM:-0500
TZOFFSETTO:-0600
TZNAME:CST
DTSTART:20241103T070000
END:STANDARD
BEGIN:DAYLIGHT
TZOFFSETFROM:-0600
TZOFFSETTO:-0500
TZNAME:CDT
DTSTART:20250309T080000
END:DAYLIGHT
BEGIN:STANDARD
TZOFFSETFROM:-0500
TZOFFSETTO:-0600
TZNAME:CST
DTSTART:20251102T070000
END:STANDARD
END:VTIMEZONE
BEGIN:VEVENT
DTSTART;TZID=America/Chicago:20241025T160000
DTEND;TZID=America/Chicago:20241025T200000
DTSTAMP:20260424T074651
CREATED:20241016T010509Z
LAST-MODIFIED:20241016T020611Z
UID:10000042-1729872000-1729886400@bishopspringlavender.com
SUMMARY:The Autumn Warehouse Market
DESCRIPTION:We are excited to be a part of The Autumn Warehouse Market!\nIt is a 2 day market event on the weekend!\nThere will be over 70 vendors including pumpkins\, flower bar\, hat burning\, make and takes\, vendors\, tarot card reading and more!\n\nThere is a $5.00 entrance fee at the door. You will receive a band in case you next to exit and come back.\n\nWe are so excited to experience this new event with you!\n\n\nWe are your local lavender farming\, relaxation dealer by way of our carefully curated lavender products including fresh or dried lavender bundles!
URL:https://bishopspringlavender.com/event/the-autumn-warehouse-market/
LOCATION:The Warehouse 200\, 200 E. Douglas Ave\, Jacksonville\, IL\, 62650\, United States
END:VEVENT
BEGIN:VEVENT
DTSTART;TZID=America/Chicago:20241019T070000
DTEND;TZID=America/Chicago:20241019T120000
DTSTAMP:20260424T074651
CREATED:20241016T011902Z
LAST-MODIFIED:20241016T020656Z
UID:10000041-1729321200-1729339200@bishopspringlavender.com
SUMMARY:Jacksonville Farmers Market
DESCRIPTION:Stop by and see us under the purple tent at the 2024 Jacksonville Farmers Market every Saturday morning through October.\n\nWe are your local lavender farming\, relaxation dealer by way of our carefully curated lavender products including fresh or dried lavender bundles!
URL:https://bishopspringlavender.com/event/jacksonville-farmers-market-2/
LOCATION:Pathway Plaza\, 1905 W. Morton Avenue\, Jacksonville\, 62650\, United States
END:VEVENT
BEGIN:VEVENT
DTSTART;TZID=America/Chicago:20241005T070000
DTEND;TZID=America/Chicago:20241005T120000
DTSTAMP:20260424T074651
CREATED:20240531T013001Z
LAST-MODIFIED:20241016T020756Z
UID:10000068-1728111600-1728129600@bishopspringlavender.com
SUMMARY:Jacksonville Farmers Market
DESCRIPTION:Stop by and see us under the purple tent at the 2024 Jacksonville Farmers Market every Saturday morning through October.\n\nWe are your local lavender farming\, relaxation dealer by way of our carefully curated lavender products including fresh or dried lavender bundles!
URL:https://bishopspringlavender.com/event/jacksonville-farmers-market/2024-10-05/
LOCATION:Pathway Plaza\, 1905 W. Morton Avenue\, Jacksonville\, 62650\, United States
END:VEVENT
BEGIN:VEVENT
DTSTART;TZID=America/Chicago:20240928T070000
DTEND;TZID=America/Chicago:20240928T120000
DTSTAMP:20260424T074651
CREATED:20240531T013001Z
LAST-MODIFIED:20241016T020756Z
UID:10000067-1727506800-1727524800@bishopspringlavender.com
SUMMARY:Jacksonville Farmers Market
DESCRIPTION:Stop by and see us under the purple tent at the 2024 Jacksonville Farmers Market every Saturday morning through October.\n\nWe are your local lavender farming\, relaxation dealer by way of our carefully curated lavender products including fresh or dried lavender bundles!
URL:https://bishopspringlavender.com/event/jacksonville-farmers-market/2024-09-28/
LOCATION:Pathway Plaza\, 1905 W. Morton Avenue\, Jacksonville\, 62650\, United States
END:VEVENT
BEGIN:VEVENT
DTSTART;TZID=America/Chicago:20240921T070000
DTEND;TZID=America/Chicago:20240921T120000
DTSTAMP:20260424T074651
CREATED:20240531T013001Z
LAST-MODIFIED:20241016T020756Z
UID:10000066-1726902000-1726920000@bishopspringlavender.com
SUMMARY:Jacksonville Farmers Market
DESCRIPTION:Stop by and see us under the purple tent at the 2024 Jacksonville Farmers Market every Saturday morning through October.\n\nWe are your local lavender farming\, relaxation dealer by way of our carefully curated lavender products including fresh or dried lavender bundles!
URL:https://bishopspringlavender.com/event/jacksonville-farmers-market/2024-09-21/
LOCATION:Pathway Plaza\, 1905 W. Morton Avenue\, Jacksonville\, 62650\, United States
END:VEVENT
BEGIN:VEVENT
DTSTART;TZID=America/Chicago:20240914T070000
DTEND;TZID=America/Chicago:20240914T120000
DTSTAMP:20260424T074651
CREATED:20240531T013001Z
LAST-MODIFIED:20241016T020756Z
UID:10000065-1726297200-1726315200@bishopspringlavender.com
SUMMARY:Jacksonville Farmers Market
DESCRIPTION:Stop by and see us under the purple tent at the 2024 Jacksonville Farmers Market every Saturday morning through October.\n\nWe are your local lavender farming\, relaxation dealer by way of our carefully curated lavender products including fresh or dried lavender bundles!
URL:https://bishopspringlavender.com/event/jacksonville-farmers-market/2024-09-14/
LOCATION:Pathway Plaza\, 1905 W. Morton Avenue\, Jacksonville\, 62650\, United States
END:VEVENT
BEGIN:VEVENT
DTSTART;TZID=America/Chicago:20240907T070000
DTEND;TZID=America/Chicago:20240907T120000
DTSTAMP:20260424T074651
CREATED:20240531T013001Z
LAST-MODIFIED:20241016T020756Z
UID:10000064-1725692400-1725710400@bishopspringlavender.com
SUMMARY:Jacksonville Farmers Market
DESCRIPTION:Stop by and see us under the purple tent at the 2024 Jacksonville Farmers Market every Saturday morning through October.\n\nWe are your local lavender farming\, relaxation dealer by way of our carefully curated lavender products including fresh or dried lavender bundles!
URL:https://bishopspringlavender.com/event/jacksonville-farmers-market/2024-09-07/
LOCATION:Pathway Plaza\, 1905 W. Morton Avenue\, Jacksonville\, 62650\, United States
END:VEVENT
BEGIN:VEVENT
DTSTART;TZID=America/Chicago:20240831T070000
DTEND;TZID=America/Chicago:20240831T120000
DTSTAMP:20260424T074651
CREATED:20240531T013001Z
LAST-MODIFIED:20241016T020756Z
UID:10000016-1725087600-1725105600@bishopspringlavender.com
SUMMARY:Jacksonville Farmers Market
DESCRIPTION:Stop by and see us under the purple tent at the 2024 Jacksonville Farmers Market every Saturday morning through October.\n\nWe are your local lavender farming\, relaxation dealer by way of our carefully curated lavender products including fresh or dried lavender bundles!
URL:https://bishopspringlavender.com/event/jacksonville-farmers-market/2024-08-31/
LOCATION:Pathway Plaza\, 1905 W. Morton Avenue\, Jacksonville\, 62650\, United States
END:VEVENT
BEGIN:VEVENT
DTSTART;TZID=America/Chicago:20240824T070000
DTEND;TZID=America/Chicago:20240824T120000
DTSTAMP:20260424T074651
CREATED:20240531T013001Z
LAST-MODIFIED:20241016T020756Z
UID:10000015-1724482800-1724500800@bishopspringlavender.com
SUMMARY:Jacksonville Farmers Market
DESCRIPTION:Stop by and see us under the purple tent at the 2024 Jacksonville Farmers Market every Saturday morning through October.\n\nWe are your local lavender farming\, relaxation dealer by way of our carefully curated lavender products including fresh or dried lavender bundles!
URL:https://bishopspringlavender.com/event/jacksonville-farmers-market/2024-08-24/
LOCATION:Pathway Plaza\, 1905 W. Morton Avenue\, Jacksonville\, 62650\, United States
END:VEVENT
BEGIN:VEVENT
DTSTART;TZID=America/Chicago:20240817T070000
DTEND;TZID=America/Chicago:20240817T120000
DTSTAMP:20260424T074651
CREATED:20240531T013001Z
LAST-MODIFIED:20241016T020756Z
UID:10000014-1723878000-1723896000@bishopspringlavender.com
SUMMARY:Jacksonville Farmers Market
DESCRIPTION:Stop by and see us under the purple tent at the 2024 Jacksonville Farmers Market every Saturday morning through October.\n\nWe are your local lavender farming\, relaxation dealer by way of our carefully curated lavender products including fresh or dried lavender bundles!
URL:https://bishopspringlavender.com/event/jacksonville-farmers-market/2024-08-17/
LOCATION:Pathway Plaza\, 1905 W. Morton Avenue\, Jacksonville\, 62650\, United States
END:VEVENT
BEGIN:VEVENT
DTSTART;TZID=America/Chicago:20240810T070000
DTEND;TZID=America/Chicago:20240810T120000
DTSTAMP:20260424T074651
CREATED:20240531T013001Z
LAST-MODIFIED:20241016T020756Z
UID:10000013-1723273200-1723291200@bishopspringlavender.com
SUMMARY:Jacksonville Farmers Market
DESCRIPTION:Stop by and see us under the purple tent at the 2024 Jacksonville Farmers Market every Saturday morning through October.\n\nWe are your local lavender farming\, relaxation dealer by way of our carefully curated lavender products including fresh or dried lavender bundles!
URL:https://bishopspringlavender.com/event/jacksonville-farmers-market/2024-08-10/
LOCATION:Pathway Plaza\, 1905 W. Morton Avenue\, Jacksonville\, 62650\, United States
END:VEVENT
BEGIN:VEVENT
DTSTART;TZID=America/Chicago:20240803T070000
DTEND;TZID=America/Chicago:20240803T120000
DTSTAMP:20260424T074651
CREATED:20240531T013001Z
LAST-MODIFIED:20241016T020756Z
UID:10000012-1722668400-1722686400@bishopspringlavender.com
SUMMARY:Jacksonville Farmers Market
DESCRIPTION:Stop by and see us under the purple tent at the 2024 Jacksonville Farmers Market every Saturday morning through October.\n\nWe are your local lavender farming\, relaxation dealer by way of our carefully curated lavender products including fresh or dried lavender bundles!
URL:https://bishopspringlavender.com/event/jacksonville-farmers-market/2024-08-03/
LOCATION:Pathway Plaza\, 1905 W. Morton Avenue\, Jacksonville\, 62650\, United States
END:VEVENT
BEGIN:VEVENT
DTSTART;TZID=America/Chicago:20240727T070000
DTEND;TZID=America/Chicago:20240727T120000
DTSTAMP:20260424T074651
CREATED:20240531T013001Z
LAST-MODIFIED:20241016T020756Z
UID:10000011-1722063600-1722081600@bishopspringlavender.com
SUMMARY:Jacksonville Farmers Market
DESCRIPTION:Stop by and see us under the purple tent at the 2024 Jacksonville Farmers Market every Saturday morning through October.\n\nWe are your local lavender farming\, relaxation dealer by way of our carefully curated lavender products including fresh or dried lavender bundles!
URL:https://bishopspringlavender.com/event/jacksonville-farmers-market/2024-07-27/
LOCATION:Pathway Plaza\, 1905 W. Morton Avenue\, Jacksonville\, 62650\, United States
END:VEVENT
BEGIN:VEVENT
DTSTART;TZID=America/Chicago:20240720T070000
DTEND;TZID=America/Chicago:20240720T120000
DTSTAMP:20260424T074652
CREATED:20240531T013001Z
LAST-MODIFIED:20241016T020756Z
UID:10000010-1721458800-1721476800@bishopspringlavender.com
SUMMARY:Jacksonville Farmers Market
DESCRIPTION:Stop by and see us under the purple tent at the 2024 Jacksonville Farmers Market every Saturday morning through October.\n\nWe are your local lavender farming\, relaxation dealer by way of our carefully curated lavender products including fresh or dried lavender bundles!
URL:https://bishopspringlavender.com/event/jacksonville-farmers-market/2024-07-20/
LOCATION:Pathway Plaza\, 1905 W. Morton Avenue\, Jacksonville\, 62650\, United States
END:VEVENT
BEGIN:VEVENT
DTSTART;TZID=America/Chicago:20240713T070000
DTEND;TZID=America/Chicago:20240713T120000
DTSTAMP:20260424T074652
CREATED:20240531T013001Z
LAST-MODIFIED:20241016T020756Z
UID:10000009-1720854000-1720872000@bishopspringlavender.com
SUMMARY:Jacksonville Farmers Market
DESCRIPTION:Stop by and see us under the purple tent at the 2024 Jacksonville Farmers Market every Saturday morning through October.\n\nWe are your local lavender farming\, relaxation dealer by way of our carefully curated lavender products including fresh or dried lavender bundles!
URL:https://bishopspringlavender.com/event/jacksonville-farmers-market/2024-07-13/
LOCATION:Pathway Plaza\, 1905 W. Morton Avenue\, Jacksonville\, 62650\, United States
END:VEVENT
BEGIN:VEVENT
DTSTART;TZID=America/Chicago:20240706T070000
DTEND;TZID=America/Chicago:20240706T120000
DTSTAMP:20260424T074652
CREATED:20240531T013001Z
LAST-MODIFIED:20241016T020756Z
UID:10000008-1720249200-1720267200@bishopspringlavender.com
SUMMARY:Jacksonville Farmers Market
DESCRIPTION:Stop by and see us under the purple tent at the 2024 Jacksonville Farmers Market every Saturday morning through October.\n\nWe are your local lavender farming\, relaxation dealer by way of our carefully curated lavender products including fresh or dried lavender bundles!
URL:https://bishopspringlavender.com/event/jacksonville-farmers-market/2024-07-06/
LOCATION:Pathway Plaza\, 1905 W. Morton Avenue\, Jacksonville\, 62650\, United States
END:VEVENT
BEGIN:VEVENT
DTSTART;TZID=America/Chicago:20240629T070000
DTEND;TZID=America/Chicago:20240629T120000
DTSTAMP:20260424T074652
CREATED:20240531T013001Z
LAST-MODIFIED:20241016T020756Z
UID:10000007-1719644400-1719662400@bishopspringlavender.com
SUMMARY:Jacksonville Farmers Market
DESCRIPTION:Stop by and see us under the purple tent at the 2024 Jacksonville Farmers Market every Saturday morning through October.\n\nWe are your local lavender farming\, relaxation dealer by way of our carefully curated lavender products including fresh or dried lavender bundles!
URL:https://bishopspringlavender.com/event/jacksonville-farmers-market/2024-06-29/
LOCATION:Pathway Plaza\, 1905 W. Morton Avenue\, Jacksonville\, 62650\, United States
END:VEVENT
BEGIN:VEVENT
DTSTART;TZID=America/Chicago:20240622T070000
DTEND;TZID=America/Chicago:20240622T120000
DTSTAMP:20260424T074652
CREATED:20240531T013001Z
LAST-MODIFIED:20241016T020756Z
UID:10000006-1719039600-1719057600@bishopspringlavender.com
SUMMARY:Jacksonville Farmers Market
DESCRIPTION:Stop by and see us under the purple tent at the 2024 Jacksonville Farmers Market every Saturday morning through October.\n\nWe are your local lavender farming\, relaxation dealer by way of our carefully curated lavender products including fresh or dried lavender bundles!
URL:https://bishopspringlavender.com/event/jacksonville-farmers-market/2024-06-22/
LOCATION:Pathway Plaza\, 1905 W. Morton Avenue\, Jacksonville\, 62650\, United States
END:VEVENT
BEGIN:VEVENT
DTSTART;TZID=America/Chicago:20240615T070000
DTEND;TZID=America/Chicago:20240615T120000
DTSTAMP:20260424T074652
CREATED:20240531T013001Z
LAST-MODIFIED:20241016T020756Z
UID:10000005-1718434800-1718452800@bishopspringlavender.com
SUMMARY:Jacksonville Farmers Market
DESCRIPTION:Stop by and see us under the purple tent at the 2024 Jacksonville Farmers Market every Saturday morning through October.\n\nWe are your local lavender farming\, relaxation dealer by way of our carefully curated lavender products including fresh or dried lavender bundles!
URL:https://bishopspringlavender.com/event/jacksonville-farmers-market/2024-06-15/
LOCATION:Pathway Plaza\, 1905 W. Morton Avenue\, Jacksonville\, 62650\, United States
END:VEVENT
BEGIN:VEVENT
DTSTART;TZID=America/Chicago:20240609T130000
DTEND;TZID=America/Chicago:20240609T150000
DTSTAMP:20260424T074652
CREATED:20240608T231218Z
LAST-MODIFIED:20240608T231218Z
UID:10000033-1717938000-1717945200@bishopspringlavender.com
SUMMARY:U Pick
DESCRIPTION:Hey hey fresh lavender is on the way!\n\nThe 2024 Lavender Season is in full swing!\n\nCome join us for the inaugural U Pick season starting Sunday June 9th\, 2024 from 1:00 – 3:00pm!\n\nWatch for official events to be posted on website and social media pages.\n\nPicking lavender\n\nBishop Spring Lavender wishes to welcome you to the peace and serenity of country life at the lavender farm!\nEnjoy a slower pace as you stroll through our lavender farm and cut your own fresh lavender bundles!\n\nWe will provide all the tools for cutting and gathering your fresh lavender with each bundle to yield approximately 100 – 120 stems at $12.00 per bundle.\n\nHours for U-Pick will be Sundays 1:00 – 3:00 p.m.\n\nNo pets\, please.\n\nWild pollinators love lavender\, if you have bee allergies or other severe allergies\, please take the necessary precautions.\n\nThe lavender farmer has bee allergies and has not been stung working in the lavender.\n\nTips for a good day at the farm:\n1. Wear comfortable shoes and clothes for the weather.\n2. Sunscreen\, hat\, or umbrella if you are sensitive to the sun. (Lavender LOVES full hot sun)\n3. Bring extra water to keep hydrated!\n\nWe do have a portable restroom for your convenience.
URL:https://bishopspringlavender.com/event/u-pick/
END:VEVENT
BEGIN:VEVENT
DTSTART;TZID=America/Chicago:20240608T070000
DTEND;TZID=America/Chicago:20240608T120000
DTSTAMP:20260424T074652
CREATED:20240531T013001Z
LAST-MODIFIED:20241016T020756Z
UID:10000004-1717830000-1717848000@bishopspringlavender.com
SUMMARY:Jacksonville Farmers Market
DESCRIPTION:Stop by and see us under the purple tent at the 2024 Jacksonville Farmers Market every Saturday morning through October.\n\nWe are your local lavender farming\, relaxation dealer by way of our carefully curated lavender products including fresh or dried lavender bundles!
URL:https://bishopspringlavender.com/event/jacksonville-farmers-market/2024-06-08/
LOCATION:Pathway Plaza\, 1905 W. Morton Avenue\, Jacksonville\, 62650\, United States
END:VEVENT
BEGIN:VEVENT
DTSTART;VALUE=DATE:20240607
DTEND;VALUE=DATE:20240608
DTSTAMP:20260424T074652
CREATED:20240601T001142Z
LAST-MODIFIED:20240601T001259Z
UID:10000032-1717718400-1717804799@bishopspringlavender.com
SUMMARY:Garden Club
DESCRIPTION:
URL:https://bishopspringlavender.com/event/garden-club/
END:VEVENT
BEGIN:VEVENT
DTSTART;TZID=America/Chicago:20240606T160000
DTEND;TZID=America/Chicago:20240606T200000
DTSTAMP:20260424T074652
CREATED:20240531T225810Z
LAST-MODIFIED:20240531T225810Z
UID:10000017-1717689600-1717704000@bishopspringlavender.com
SUMMARY:Central Park Market
DESCRIPTION:Stop by and see us at the Outdoor market on Central Park Plaza!\n\nJacksonville’s downtown outdoor market brings together shopping at the brick and mortars with vendors!\n\nThere will be food trucks\, live music and handmade items from local makers around the central Illinois area!\n\nAnd of course we will be there as your local lavender farming\, relaxation dealer by way of our carefully curated locally grown and locally made lavender products including fresh or dried lavender bundles!
URL:https://bishopspringlavender.com/event/central-park-market/
LOCATION:The Warehouse 200\, 200 E. Douglas Ave\, Jacksonville\, IL\, 62650\, United States
END:VEVENT
BEGIN:VEVENT
DTSTART;TZID=America/Chicago:20240601T070000
DTEND;TZID=America/Chicago:20240601T120000
DTSTAMP:20260424T074652
CREATED:20240531T013001Z
LAST-MODIFIED:20241016T020756Z
UID:10000002-1717225200-1717243200@bishopspringlavender.com
SUMMARY:Jacksonville Farmers Market
DESCRIPTION:Stop by and see us under the purple tent at the 2024 Jacksonville Farmers Market every Saturday morning through October.\n\nWe are your local lavender farming\, relaxation dealer by way of our carefully curated lavender products including fresh or dried lavender bundles!
URL:https://bishopspringlavender.com/event/jacksonville-farmers-market/2024-06-01/
LOCATION:Pathway Plaza\, 1905 W. Morton Avenue\, Jacksonville\, 62650\, United States
END:VEVENT
BEGIN:VEVENT
DTSTART;TZID=America/Chicago:20240111T080000
DTEND;TZID=America/Chicago:20240111T170000
DTSTAMP:20260424T074652
CREATED:20240111T171553Z
LAST-MODIFIED:20240111T172115Z
UID:10000031-1704960000-1704992400@bishopspringlavender.com
SUMMARY:Placeholder Event 1
DESCRIPTION:
URL:https://bishopspringlavender.com/event/placeholder-event-1/
ATTACH;FMTTYPE=image/jpeg:https://bishopspringlavender.com/wp-content/uploads/2024/01/New-Project-2024-01-11T223940.279.jpg
END:VEVENT
END:VCALENDAR